BEGIN:VCALENDAR
PRODID:-//github.com/rianjs/ical.net//NONSGML ical.net 4.0//EN
VERSION:2.0
BEGIN:VEVENT
DESCRIPTION:Velkomen til Nordhordland Matfestival i AMFI Knarvik 19.-20. j
 uni 2026 - ein smakfull folkefest i hjartet av Nordhordland
DTEND:20260620T235959
DTSTAMP:20260425T004656Z
DTSTART;VALUE=DATE:20260619
LOCATION:AMFI Knarvik
SEQUENCE:0
SUMMARY:Nordhordland Matfestival 2026
UID:d824990a-cc65-4e99-9e08-9746144de89a
END:VEVENT
END:VCALENDAR
